BEGIN:VCALENDAR
VERSION:2.0
PRODID:-//Canberra Montessori School - ECPv5.7.0//NONSGML v1.0//EN
CALSCALE:GREGORIAN
METHOD:PUBLISH
X-WR-CALNAME:Canberra Montessori School
X-ORIGINAL-URL:https://cms.act.edu.au
X-WR-CALDESC:Events for Canberra Montessori School
BEGIN:VTIMEZONE
TZID:Australia/Sydney
BEGIN:STANDARD
TZOFFSETFROM:+1100
TZOFFSETTO:+1000
TZNAME:AEST
DTSTART:20190406T160000
END:STANDARD
BEGIN:DAYLIGHT
TZOFFSETFROM:+1000
TZOFFSETTO:+1100
TZNAME:AEDT
DTSTART:20191005T160000
END:DAYLIGHT
END:VTIMEZONE
BEGIN:VEVENT
DTSTART;TZID=Australia/Sydney:20190208T180000
DTEND;TZID=Australia/Sydney:20190208T220000
DTSTAMP:20260425T045826
CREATED:20181210T041420Z
LAST-MODIFIED:20181212T043627Z
UID:4271-1549648800-1549663200@cms.act.edu.au
SUMMARY:Annual Community Gathering - Fri 8 Feb 6-10pm
DESCRIPTION:Please join us at our Annual Community Gathering\, Movie Night and BBQ fundraiser – a great opportunity to meet other families\, reconnect with old friends after the long break and hear a little from our Directors\, Principal and Board.
URL:https://cms.act.edu.au/event/annual-community-gathering-mon-11-feb-5-7pm/
LOCATION:Canberra Montessori School\, 35 Mulley Street\, Holder\, ACT\, 2611\, Australia
CATEGORIES:General Events
GEO:-35.3326204;149.0489803
X-APPLE-STRUCTURED-LOCATION;VALUE=URI;X-ADDRESS=Canberra Montessori School 35 Mulley Street Holder ACT 2611 Australia;X-APPLE-RADIUS=500;X-TITLE=35 Mulley Street:geo:149.0489803,-35.3326204
END:VEVENT
END:VCALENDAR