BEGIN:VCALENDAR
VERSION:2.0
PRODID:-//Canberra Montessori School - ECPv5.7.0//NONSGML v1.0//EN
CALSCALE:GREGORIAN
METHOD:PUBLISH
X-WR-CALNAME:Canberra Montessori School
X-ORIGINAL-URL:https://cms.act.edu.au
X-WR-CALDESC:Events for Canberra Montessori School
BEGIN:VTIMEZONE
TZID:Australia/Sydney
BEGIN:STANDARD
TZOFFSETFROM:+1100
TZOFFSETTO:+1000
TZNAME:AEST
DTSTART:20190406T160000
END:STANDARD
BEGIN:DAYLIGHT
TZOFFSETFROM:+1000
TZOFFSETTO:+1100
TZNAME:AEDT
DTSTART:20191005T160000
END:DAYLIGHT
END:VTIMEZONE
BEGIN:VEVENT
DTSTART;TZID=Australia/Sydney:20190319T190000
DTEND;TZID=Australia/Sydney:20190319T200000
DTSTAMP:20260425T052834
CREATED:20181211T034021Z
LAST-MODIFIED:20181211T035549Z
UID:4295-1553022000-1553025600@cms.act.edu.au
SUMMARY:Annual General Meeting Tues 19 March
DESCRIPTION:All community members are encouraged to attend the AGM. It’s an important opportunity to help set the strategic and formal direction of the school. Aside from that\, it’s also a great opportunity to meet other members of the community and hear detailed updates about projects at the school or other activities. We hope we will see you there.
URL:https://cms.act.edu.au/event/annual-general-meeting-tues-19-march/
LOCATION:Canberra Montessori School\, 35 Mulley Street\, Holder\, ACT\, 2611\, Australia
CATEGORIES:General Events
GEO:-35.3326204;149.0489803
X-APPLE-STRUCTURED-LOCATION;VALUE=URI;X-ADDRESS=Canberra Montessori School 35 Mulley Street Holder ACT 2611 Australia;X-APPLE-RADIUS=500;X-TITLE=35 Mulley Street:geo:149.0489803,-35.3326204
END:VEVENT
END:VCALENDAR