BEGIN:VCALENDAR
VERSION:2.0
PRODID:-//Canberra Montessori School - ECPv5.7.0//NONSGML v1.0//EN
CALSCALE:GREGORIAN
METHOD:PUBLISH
X-WR-CALNAME:Canberra Montessori School
X-ORIGINAL-URL:https://cms.act.edu.au
X-WR-CALDESC:Events for Canberra Montessori School
BEGIN:VTIMEZONE
TZID:Australia/Sydney
BEGIN:STANDARD
TZOFFSETFROM:+1100
TZOFFSETTO:+1000
TZNAME:AEST
DTSTART:20190406T160000
END:STANDARD
BEGIN:DAYLIGHT
TZOFFSETFROM:+1000
TZOFFSETTO:+1100
TZNAME:AEDT
DTSTART:20191005T160000
END:DAYLIGHT
END:VTIMEZONE
BEGIN:VEVENT
DTSTART;TZID=Australia/Sydney:20190412T140000
DTEND;TZID=Australia/Sydney:20190412T150000
DTSTAMP:20260425T090355
CREATED:20181211T034730Z
LAST-MODIFIED:20181211T034730Z
UID:4299-1555077600-1555081200@cms.act.edu.au
SUMMARY:Colour Run Fri 12 April
DESCRIPTION:Students and staff alike have great fun at our annual Colour Run.\n  \nIt will be held on the afternoon of Friday 12th April.\n  \nThe Colour Run promotes healthy and active lifestyles while helping us raise funds! It’s all about participation and enjoyment\, and will involve running through colour-run powder at the finish line.  All children can participate\, with distances appropriate to age and ability\, and a non-colour option available.
URL:https://cms.act.edu.au/event/colour-run-fri-12-april/
LOCATION:Canberra Montessori School\, 35 Mulley Street\, Holder\, ACT\, 2611\, Australia
CATEGORIES:General Events
ATTACH;FMTTYPE=image/jpeg:https://cms.act.edu.au/wp-content/uploads/2018/02/colour-run.jpg
GEO:-35.3326204;149.0489803
X-APPLE-STRUCTURED-LOCATION;VALUE=URI;X-ADDRESS=Canberra Montessori School 35 Mulley Street Holder ACT 2611 Australia;X-APPLE-RADIUS=500;X-TITLE=35 Mulley Street:geo:149.0489803,-35.3326204
END:VEVENT
END:VCALENDAR