BEGIN:VCALENDAR
VERSION:2.0
PRODID:-//Canberra Montessori School - ECPv5.7.0//NONSGML v1.0//EN
CALSCALE:GREGORIAN
METHOD:PUBLISH
X-WR-CALNAME:Canberra Montessori School
X-ORIGINAL-URL:https://cms.act.edu.au
X-WR-CALDESC:Events for Canberra Montessori School
BEGIN:VTIMEZONE
TZID:Australia/Sydney
BEGIN:STANDARD
TZOFFSETFROM:+1100
TZOFFSETTO:+1000
TZNAME:AEST
DTSTART:20170401T160000
END:STANDARD
BEGIN:DAYLIGHT
TZOFFSETFROM:+1000
TZOFFSETTO:+1100
TZNAME:AEDT
DTSTART:20170930T160000
END:DAYLIGHT
END:VTIMEZONE
BEGIN:VEVENT
DTSTART;TZID=Australia/Sydney:20171117T180000
DTEND;TZID=Australia/Sydney:20171117T193000
DTSTAMP:20260426T063114
CREATED:20170228T011942Z
LAST-MODIFIED:20171110T023132Z
UID:2983-1510941600-1510947000@cms.act.edu.au
SUMMARY:End of Year Extravaganza Fri 17 November 6pm
DESCRIPTION:Cycle 1 to Cycle 3 children will be performing at our end of year event at St Jude’s Hall in Mulley Street\, from 6pm for 6.15pm to 7.30pm
URL:https://cms.act.edu.au/event/end-of-year-extravaganza-2/
CATEGORIES:General Events
END:VEVENT
END:VCALENDAR