BEGIN:VCALENDAR
VERSION:2.0
PRODID:-//Canberra Montessori School - ECPv5.7.0//NONSGML v1.0//EN
CALSCALE:GREGORIAN
METHOD:PUBLISH
X-WR-CALNAME:Canberra Montessori School
X-ORIGINAL-URL:https://cms.act.edu.au
X-WR-CALDESC:Events for Canberra Montessori School
BEGIN:VTIMEZONE
TZID:Australia/Sydney
BEGIN:STANDARD
TZOFFSETFROM:+1100
TZOFFSETTO:+1000
TZNAME:AEST
DTSTART:20170401T160000
END:STANDARD
BEGIN:DAYLIGHT
TZOFFSETFROM:+1000
TZOFFSETTO:+1100
TZNAME:AEDT
DTSTART:20170930T160000
END:DAYLIGHT
END:VTIMEZONE
BEGIN:VEVENT
DTSTART;TZID=Australia/Sydney:20171121T190000
DTEND;TZID=Australia/Sydney:20171121T200000
DTSTAMP:20260426T063728
CREATED:20170228T013124Z
LAST-MODIFIED:20171026T004248Z
UID:2993-1511290800-1511294400@cms.act.edu.au
SUMMARY:Learnscapes Meeting
DESCRIPTION:Our Learnscapes Committee meet once a month to plan projects around the campus for increasing the beauty and function of our outdoor spaces. Join us on the Committee and help make the grounds look even more fantastic! All welcome.
URL:https://cms.act.edu.au/event/learnscapes-meeting-12/
CATEGORIES:From Learnscapes Committee,General Events
END:VEVENT
END:VCALENDAR