BEGIN:VCALENDAR
VERSION:2.0
PRODID:-//Canberra Montessori School - ECPv5.7.0//NONSGML v1.0//EN
CALSCALE:GREGORIAN
METHOD:PUBLISH
X-WR-CALNAME:Canberra Montessori School
X-ORIGINAL-URL:https://cms.act.edu.au
X-WR-CALDESC:Events for Canberra Montessori School
BEGIN:VTIMEZONE
TZID:Australia/Sydney
BEGIN:STANDARD
TZOFFSETFROM:+1100
TZOFFSETTO:+1000
TZNAME:AEST
DTSTART:20190406T160000
END:STANDARD
BEGIN:DAYLIGHT
TZOFFSETFROM:+1000
TZOFFSETTO:+1100
TZNAME:AEDT
DTSTART:20191005T160000
END:DAYLIGHT
END:VTIMEZONE
BEGIN:VEVENT
DTSTART;TZID=Australia/Sydney:20190516T093000
DTEND;TZID=Australia/Sydney:20190516T103000
DTSTAMP:20260425T030810
CREATED:20190502T020642Z
LAST-MODIFIED:20190519T002124Z
UID:4536-1557999000-1558002600@cms.act.edu.au
SUMMARY:Open Day
DESCRIPTION:Thursday 16 – 9:30am- 10:30am\, and Sunday 19 May – 10am-1pm \nCome along and experience a tour of the school with our staff\, followed by a viewing of the movie “Inside Montessori.” (Please contact reception@cms.act.edu.au to book your tour on theThursday Open Day.) \nThis is a great opportunity to visit the school with your family\, check out our new Early Education Centre and talk with staff. We still have a few places for children between 18 months and 3 years in our Early Education Centre and are currently enrolling children turning 3 in 2019 or later in our main school.  Don’t miss out! \n 
URL:https://cms.act.edu.au/event/open-day-2/
LOCATION:Canberra Montessori School\, 35 Mulley Street\, Holder\, ACT\, 2611\, Australia
CATEGORIES:General Events
GEO:-35.3326204;149.0489803
X-APPLE-STRUCTURED-LOCATION;VALUE=URI;X-ADDRESS=Canberra Montessori School 35 Mulley Street Holder ACT 2611 Australia;X-APPLE-RADIUS=500;X-TITLE=35 Mulley Street:geo:149.0489803,-35.3326204
END:VEVENT
END:VCALENDAR