BEGIN:VCALENDAR
VERSION:2.0
PRODID:-//Canberra Montessori School - ECPv5.7.0//NONSGML v1.0//EN
CALSCALE:GREGORIAN
METHOD:PUBLISH
X-WR-CALNAME:Canberra Montessori School
X-ORIGINAL-URL:https://cms.act.edu.au
X-WR-CALDESC:Events for Canberra Montessori School
BEGIN:VTIMEZONE
TZID:Australia/Sydney
BEGIN:STANDARD
TZOFFSETFROM:+1100
TZOFFSETTO:+1000
TZNAME:AEST
DTSTART:20180331T160000
END:STANDARD
BEGIN:DAYLIGHT
TZOFFSETFROM:+1000
TZOFFSETTO:+1100
TZNAME:AEDT
DTSTART:20181006T160000
END:DAYLIGHT
END:VTIMEZONE
BEGIN:VEVENT
DTSTART;TZID=Australia/Sydney:20180905T150000
DTEND;TZID=Australia/Sydney:20180905T160000
DTSTAMP:20260425T033906
CREATED:20180502T015842Z
LAST-MODIFIED:20180502T015842Z
UID:3997-1536159600-1536163200@cms.act.edu.au
SUMMARY:Open Door Session
DESCRIPTION:These weekly sessions are an opportunity to chat with your Director about all things Montessori. If you would like to have a more in depth talk regarding your child\, your Director will be happy to arrange a separate time with you.
URL:https://cms.act.edu.au/event/open-door-session-17/
LOCATION:Canberra Montessori School\, 35 Mulley Street\, Holder\, ACT\, 2611\, Australia
CATEGORIES:Weekly Events
GEO:-35.3326204;149.0489803
X-APPLE-STRUCTURED-LOCATION;VALUE=URI;X-ADDRESS=Canberra Montessori School 35 Mulley Street Holder ACT 2611 Australia;X-APPLE-RADIUS=500;X-TITLE=35 Mulley Street:geo:149.0489803,-35.3326204
END:VEVENT
END:VCALENDAR