BEGIN:VCALENDAR
VERSION:2.0
PRODID:-//Canberra Montessori School - ECPv5.7.0//NONSGML v1.0//EN
CALSCALE:GREGORIAN
METHOD:PUBLISH
X-WR-CALNAME:Canberra Montessori School
X-ORIGINAL-URL:https://cms.act.edu.au
X-WR-CALDESC:Events for Canberra Montessori School
BEGIN:VTIMEZONE
TZID:Australia/Sydney
BEGIN:STANDARD
TZOFFSETFROM:+1100
TZOFFSETTO:+1000
TZNAME:AEST
DTSTART:20170401T160000
END:STANDARD
BEGIN:DAYLIGHT
TZOFFSETFROM:+1000
TZOFFSETTO:+1100
TZNAME:AEDT
DTSTART:20170930T160000
END:DAYLIGHT
END:VTIMEZONE
BEGIN:VEVENT
DTSTART;TZID=Australia/Sydney:20171030T190000
DTEND;TZID=Australia/Sydney:20171030T210000
DTSTAMP:20260425T015013
CREATED:20171003T010009Z
LAST-MODIFIED:20171023T232425Z
UID:3425-1509390000-1509397200@cms.act.edu.au
SUMMARY:Parent Education: Montessori and the Six Cs of 21st Century Education
DESCRIPTION:Montessori & the Six Cs of 21st Century Education\nEducation experts agree the Six Cs are the key skills our children will need to acquire in order to be prepared for an unknown future\, in jobs we cannot even imagine. \nMontessori\, uniquely ahead of its time\, already focusses on developing these skills. \nCome along and hear our Directors explain how this is achieved. \nMonday 30 October at 7pm—Overture Hall\, Orana School\, Weston \nPlease RSVP to office@cms.act.edu.au \n(Please note – this is a child free event) \nMap to Overture Hall\, Orana \n(Orana School is close to our own CMS premises at 35 Mulley Street in Holder)
URL:https://cms.act.edu.au/event/parent-education-montessori-and-the-six-cs-of-21st-century-education/
LOCATION:Canberra Montessori School\, 35 Mulley Street\, Holder\, ACT\, 2611\, Australia
CATEGORIES:Parent Education Event
ATTACH;FMTTYPE=image/jpeg:https://cms.act.edu.au/wp-content/uploads/2017/09/bailey-791x800.jpg
GEO:-35.3326204;149.0489803
X-APPLE-STRUCTURED-LOCATION;VALUE=URI;X-ADDRESS=Canberra Montessori School 35 Mulley Street Holder ACT 2611 Australia;X-APPLE-RADIUS=500;X-TITLE=35 Mulley Street:geo:149.0489803,-35.3326204
END:VEVENT
END:VCALENDAR