BEGIN:VCALENDAR
VERSION:2.0
PRODID:-//Canberra Montessori School - ECPv5.7.0//NONSGML v1.0//EN
CALSCALE:GREGORIAN
METHOD:PUBLISH
X-WR-CALNAME:Canberra Montessori School
X-ORIGINAL-URL:https://cms.act.edu.au
X-WR-CALDESC:Events for Canberra Montessori School
BEGIN:VTIMEZONE
TZID:Australia/Sydney
BEGIN:STANDARD
TZOFFSETFROM:+1100
TZOFFSETTO:+1000
TZNAME:AEST
DTSTART:20170401T160000
END:STANDARD
BEGIN:DAYLIGHT
TZOFFSETFROM:+1000
TZOFFSETTO:+1100
TZNAME:AEDT
DTSTART:20170930T160000
END:DAYLIGHT
END:VTIMEZONE
BEGIN:VEVENT
DTSTART;TZID=Australia/Sydney:20171122T151500
DTEND;TZID=Australia/Sydney:20171122T160000
DTSTAMP:20260426T063636
CREATED:20170228T012355Z
LAST-MODIFIED:20171015T220239Z
UID:2985-1511363700-1511366400@cms.act.edu.au
SUMMARY:Parent Teacher Interviews
DESCRIPTION:Book in a time for your child’s director to let you know how they are getting on. An online sign up will be provided.
URL:https://cms.act.edu.au/event/parent-teacher-interviews/2017-11-22/
CATEGORIES:General Events
END:VEVENT
END:VCALENDAR