BEGIN:VCALENDAR
VERSION:2.0
PRODID:-//Canberra Montessori School - ECPv5.7.0//NONSGML v1.0//EN
CALSCALE:GREGORIAN
METHOD:PUBLISH
X-WR-CALNAME:Canberra Montessori School
X-ORIGINAL-URL:https://cms.act.edu.au
X-WR-CALDESC:Events for Canberra Montessori School
BEGIN:VTIMEZONE
TZID:Australia/Sydney
BEGIN:STANDARD
TZOFFSETFROM:+1100
TZOFFSETTO:+1000
TZNAME:AEST
DTSTART:20170401T160000
END:STANDARD
BEGIN:DAYLIGHT
TZOFFSETFROM:+1000
TZOFFSETTO:+1100
TZNAME:AEDT
DTSTART:20170930T160000
END:DAYLIGHT
END:VTIMEZONE
BEGIN:VEVENT
DTSTART;TZID=Australia/Sydney:20171028T090000
DTEND;TZID=Australia/Sydney:20171028T140000
DTSTAMP:20260425T000124
CREATED:20170228T005402Z
LAST-MODIFIED:20171015T215802Z
UID:2967-1509181200-1509199200@cms.act.edu.au
SUMMARY:Spring Fair
DESCRIPTION:A fantastic day for children and parents alike – wonderful food\, great bargains\, and plenty of entertainment for all. Support the school’s fundraising and make a day of it!
URL:https://cms.act.edu.au/event/spring-fair/
LOCATION:Canberra Montessori School\, 35 Mulley Street\, Holder\, ACT\, 2611\, Australia
CATEGORIES:Community,General Events
ATTACH;FMTTYPE=image/jpeg:https://cms.act.edu.au/wp-content/uploads/2017/02/DSC_0549.jpg
GEO:-35.3326204;149.0489803
X-APPLE-STRUCTURED-LOCATION;VALUE=URI;X-ADDRESS=Canberra Montessori School 35 Mulley Street Holder ACT 2611 Australia;X-APPLE-RADIUS=500;X-TITLE=35 Mulley Street:geo:149.0489803,-35.3326204
END:VEVENT
END:VCALENDAR