BEGIN:VCALENDAR
VERSION:2.0
PRODID:-//Canberra Montessori School - ECPv5.7.0//NONSGML v1.0//EN
CALSCALE:GREGORIAN
METHOD:PUBLISH
X-WR-CALNAME:Canberra Montessori School
X-ORIGINAL-URL:https://cms.act.edu.au
X-WR-CALDESC:Events for Canberra Montessori School
BEGIN:VTIMEZONE
TZID:Australia/Sydney
BEGIN:STANDARD
TZOFFSETFROM:+1100
TZOFFSETTO:+1000
TZNAME:AEST
DTSTART:20190406T160000
END:STANDARD
BEGIN:DAYLIGHT
TZOFFSETFROM:+1000
TZOFFSETTO:+1100
TZNAME:AEDT
DTSTART:20191005T160000
END:DAYLIGHT
END:VTIMEZONE
BEGIN:VEVENT
DTSTART;TZID=Australia/Sydney:20190204T080000
DTEND;TZID=Australia/Sydney:20190204T170000
DTSTAMP:20260425T064109
CREATED:20181210T040012Z
LAST-MODIFIED:20181210T041816Z
UID:4269-1549267200-1549299600@cms.act.edu.au
SUMMARY:First Day of Term 1 2019
DESCRIPTION:We welcome all our families back to school. We hope you’ve had a wonderful Christmas break and that 2019 will be a great year for you all!
URL:https://cms.act.edu.au/event/term-1-2019/
LOCATION:Canberra Montessori School\, 35 Mulley Street\, Holder\, ACT\, 2611\, Australia
CATEGORIES:General Events
ATTACH;FMTTYPE=image/jpeg:https://cms.act.edu.au/wp-content/uploads/2016/01/pencils-2.jpg
GEO:-35.3326204;149.0489803
X-APPLE-STRUCTURED-LOCATION;VALUE=URI;X-ADDRESS=Canberra Montessori School 35 Mulley Street Holder ACT 2611 Australia;X-APPLE-RADIUS=500;X-TITLE=35 Mulley Street:geo:149.0489803,-35.3326204
END:VEVENT
END:VCALENDAR